BEGIN:VCALENDAR
VERSION:2.0
PRODID:City of Punta Gorda, FL Calendar Creator
METHOD:PUBLISH
BEGIN:VEVENT
DTSTAMP:20180209T143234
DTSTART:20180303T160000
DTEND:20180303T180000
SUMMARY:Gabrieli to Gershwin Concert
DESCRIPTION:<p>The Charlotte Chorale is very proud to welcome 8 new voices to its lineup!&nbsp; The names from left to right are:&nbsp; Heather Baker, Mike Mumma, Marjorie Rupert, Heidi Beaudine, Linda Johnson, Dodie Reineck, Susan O’Brien, Monica Babcock. These new singers will make the Chorale’s March 3, 2018 concert:&nbsp; “Gabrieli to Gershwin”, even more wonderful.&nbsp; This new addition will bring the total number of performers to 80+. The concert on Saturday, March 3, will be held at the Charlotte Performing Art Center, 701 Carmalita Street, Punta Gorda, at 4:00PM. It will be accompanied by a professional orchestra, to enhance the vocal performance. To order tickets, please call:&nbsp; 941-204-0033 </p>
X-ALT-DESC;FMTTYPE=text/html:<p>The Charlotte Chorale is very proud to welcome 8 new voices to its lineup!&nbsp; The names from left to right are:&nbsp; Heather Baker, Mike Mumma, Marjorie Rupert, Heidi Beaudine, Linda Johnson, Dodie Reineck, Susan O’Brien, Monica Babcock. These new singers will make the Chorale’s March 3, 2018 concert:&nbsp; “Gabrieli to Gershwin”, even more wonderful.&nbsp; This new addition will bring the total number of performers to 80+. The concert on Saturday, March 3, will be held at the Charlotte Performing Art Center, 701 Carmalita Street, Punta Gorda, at 4:00PM. It will be accompanied by a professional orchestra, to enhance the vocal performance. To order tickets, please call:&nbsp; 941-204-0033 </p>
LOCATION:Charlotte Performing Arts Center\, 701 Carmalita St Punta Gorda\, Florida 33950
CLASS:PUBLIC
END:VEVENT
END:VCALENDAR
