BEGIN:VCALENDAR
VERSION:2.0
PRODID:City of Punta Gorda, FL Calendar Creator
METHOD:PUBLISH
BEGIN:VEVENT
DTSTAMP:20190306T075541
DTSTART:20191217T080000
DTEND:20191217T100000
SUMMARY:PGI Car Club Cars & Coffee
DESCRIPTION:<p>For information biltucker@earthlink.net.</p><p>&nbsp;</p>
X-ALT-DESC;FMTTYPE=text/html:<p>For information biltucker@earthlink.net.</p><p>&nbsp;</p>
LOCATION:1133 Bal Harbor Blvd Punta Gorda\, Florida 33950
CLASS:PUBLIC
END:VEVENT
END:VCALENDAR
