BEGIN:VCALENDAR
VERSION:2.0
PRODID:City of Punta Gorda, FL Calendar Creator
METHOD:PUBLISH
BEGIN:VEVENT
DTSTAMP:20190411T123624
DTSTART:20191116T130000
DTEND:20191116T180000
SUMMARY:Mindi & Friends
DESCRIPTION:For information&nbsp; <a href="https://puntagordachamber.com/">https://puntagordachamber.com/.</a>
X-ALT-DESC;FMTTYPE=text/html:For information&nbsp; <a href="https://puntagordachamber.com/">https://puntagordachamber.com/.</a>
LOCATION:Charlotte Harbor Event & Conference Center\, 75 Taylor St Punta Gorda\, Florida 33950
CLASS:PUBLIC
END:VEVENT
END:VCALENDAR
