BEGIN:VCALENDAR
VERSION:2.0
PRODID:City of Punta Gorda, FL Calendar Creator
METHOD:PUBLISH
BEGIN:VEVENT
DTSTAMP:20190903T093250
DTSTART:20190918T000000
DTEND:20190918T235900
SUMMARY:Military Heritage Museum Celebrates U.S. Air Force 72nd Birthday Event
DESCRIPTION:<p align="LEFT">&nbsp;For more information or to register for the event, go to www.militaryheritagemuseum.org or call 941-575-9002. </p>
X-ALT-DESC;FMTTYPE=text/html:<p align="LEFT">&nbsp;For more information or to register for the event, go to www.militaryheritagemuseum.org or call 941-575-9002. </p>
LOCATION:Military Heritage Museum\, 900 West Marion Ave Punta Gorda\, Florida 33950
CLASS:PUBLIC
END:VEVENT
END:VCALENDAR
