BEGIN:VCALENDAR
VERSION:2.0
PRODID:City of Punta Gorda, FL Calendar Creator
METHOD:PUBLISH
BEGIN:VEVENT
DTSTAMP:20190913T103654
DTSTART:20200208T080000
DTEND:20200208T120000
SUMMARY:City Wide Garage Sales
DESCRIPTION:For information&nbsp;<a>frontdesk@puntagorda-chamber.com.&nbsp;</a>
X-ALT-DESC;FMTTYPE=text/html:For information&nbsp;<a>frontdesk@puntagorda-chamber.com.&nbsp;</a>
LOCATION:Comfort Storage\, 3811 Tamiami Trail Punta Gorda\, Florida 33950
CLASS:PUBLIC
END:VEVENT
END:VCALENDAR
