BEGIN:VCALENDAR
VERSION:2.0
PRODID:City of Punta Gorda, FL Calendar Creator
METHOD:PUBLISH
BEGIN:VEVENT
DTSTAMP:20191126T160818
DTSTART:20200206T183000
DTEND:20200206T210000
SUMMARY:The Great Mr. Swindle's Traveling Peculiarium
DESCRIPTION:For information <a href="http://www.mrswindles.com">www.mrswindles.com</a>.
X-ALT-DESC;FMTTYPE=text/html:For information <a href="http://www.mrswindles.com">www.mrswindles.com</a>.
LOCATION:City Marketplace\, 115 Tamiami Trail Punta Gorda\, Florida 33950
CLASS:PUBLIC
END:VEVENT
END:VCALENDAR
