BEGIN:VCALENDAR
VERSION:2.0
PRODID:City of Punta Gorda, FL Calendar Creator
METHOD:PUBLISH
BEGIN:VEVENT
DTSTAMP:20251204T151146
DTSTART:20260421T090000
DTEND:20260421T120000
SUMMARY:Utility Advisory Board
DESCRIPTION:<p><b><i>Utility Advisory Board (UAB)</i></b> – Meets the 3<span style="font-size: 13.3333px;">rd</span>&nbsp;Tuesday at 9:00 a.m. at the Laishley Community Room. City residency required to apply. Seven-member board. Three-year terms – maximum of two terms.</p><p>&nbsp;</p><p>Makes recommendations to City Council with regard to, but not limited to, revisions to the utility construction standards, alleged billing discrepancies and review of utility drawings and specifications.</p>
X-ALT-DESC;FMTTYPE=text/html:<p><b><i>Utility Advisory Board (UAB)</i></b> – Meets the 3<span style="font-size: 13.3333px;">rd</span>&nbsp;Tuesday at 9:00 a.m. at the Laishley Community Room. City residency required to apply. Seven-member board. Three-year terms – maximum of two terms.</p><p>&nbsp;</p><p>Makes recommendations to City Council with regard to, but not limited to, revisions to the utility construction standards, alleged billing discrepancies and review of utility drawings and specifications.</p>
LOCATION:Laishley Community Room\, 120 Laishley Court Punta Gorda\, Florida 33950
CLASS:PUBLIC
END:VEVENT
END:VCALENDAR
