BEGIN:VCALENDAR
VERSION:2.0
PRODID:City of Punta Gorda, FL Calendar Creator
METHOD:PUBLISH
BEGIN:VEVENT
DTSTAMP:20260406T144530
DTSTART:20260424T180000
DTEND:20260424T210000
SUMMARY:Picture Perfect: Projects & Popcorn
DESCRIPTION:In our Harborside Hometown, it takes a whole “herd” of neighbors to keep the city running. Hop over to Laishley Park for a family arts &amp; crafts movie night celebrating teamwork, kindness, and the wild mix of neighbors that make Punta Gorda special. Snacks will be provided and attendees are encouraged to bring picnic supplies.&nbsp;
X-ALT-DESC;FMTTYPE=text/html:In our Harborside Hometown, it takes a whole “herd” of neighbors to keep the city running. Hop over to Laishley Park for a family arts &amp; crafts movie night celebrating teamwork, kindness, and the wild mix of neighbors that make Punta Gorda special. Snacks will be provided and attendees are encouraged to bring picnic supplies.&nbsp;
LOCATION:Laishley Park\, Nesbit Street Punta Gorda\, Florida 33955
CLASS:PUBLIC
END:VEVENT
END:VCALENDAR
