BEGIN:VCALENDAR
VERSION:2.0
PRODID:City of Punta Gorda, FL Calendar Creator
METHOD:PUBLISH
BEGIN:VEVENT
DTSTAMP:20260420T071930
DTSTART:20260421T133000
DTEND:20260421T150000
SUMMARY:Burnt Store Isles Canal Advisory Committee
DESCRIPTION:<p><b><i>Emergency meeting to discuss staging lot acquisition&nbsp;</i></b></p><p><b><i>Burnt Store Isles Canal Advisory Committee (BSI CAC)</i></b> – Meets monthly on the 2<sup>nd</sup> Tuesday at 1:30 p.m. at the Laishley Community Room.&nbsp; Burnt Store Isles Canal Maintenance Assessment District residency required to apply. Five-member board with 1 alternate. Three-year terms.&nbsp; Maximum of three terms OR partial term plus 2 more terms. State of Florida Commission on Ethics financial disclosure required.</p><p>&nbsp;</p><p>Makes recommendations to City Council on effective maintenance of existing canals, waterways and navigable channels within the district, together with the maintenance and reconstruction of seawalls. Holds public hearings and makes final decision on petitions for Canal Construction Special Permits. </p>
X-ALT-DESC;FMTTYPE=text/html:<p><b><i>Emergency meeting to discuss staging lot acquisition&nbsp;</i></b></p><p><b><i>Burnt Store Isles Canal Advisory Committee (BSI CAC)</i></b> – Meets monthly on the 2<sup>nd</sup> Tuesday at 1:30 p.m. at the Laishley Community Room.&nbsp; Burnt Store Isles Canal Maintenance Assessment District residency required to apply. Five-member board with 1 alternate. Three-year terms.&nbsp; Maximum of three terms OR partial term plus 2 more terms. State of Florida Commission on Ethics financial disclosure required.</p><p>&nbsp;</p><p>Makes recommendations to City Council on effective maintenance of existing canals, waterways and navigable channels within the district, together with the maintenance and reconstruction of seawalls. Holds public hearings and makes final decision on petitions for Canal Construction Special Permits. </p>
LOCATION:Laishley Community Room\, 120 Laishley Court Punta Gorda\, Florida 33950
CLASS:PUBLIC
END:VEVENT
END:VCALENDAR
